BEGIN:VCALENDAR
VERSION:2.0
PRODID:spatie/icalendar-generator
DESCRIPTION:Wydarzenia z guardian.mil.pl
X-WR-CALDESC:Wydarzenia z guardian.mil.pl
REFRESH-INTERVAL;VALUE=DURATION:PT1440M
X-PUBLISHED-TTL:PT1440M
BEGIN:VTIMEZONE
TZID:Europe/Warsaw
BEGIN:DAYLIGHT
DTSTART:20250330T020000Z
TZOFFSETFROM:+0100
TZOFFSETTO:+0200
END:DAYLIGHT
BEGIN:STANDARD
DTSTART:20251026T030000Z
TZOFFSETFROM:+0200
TZOFFSETTO:+0100
END:STANDARD
END:VTIMEZONE
BEGIN:VTIMEZONE
TZID:UTC
BEGIN:STANDARD
DTSTART:20250724T082239Z
TZOFFSETFROM:+0000
TZOFFSETTO:+0000
END:STANDARD
END:VTIMEZONE
BEGIN:VEVENT
UID:2377-1084
DTSTAMP:20260420T082239Z
SUMMARY:Ustawianie torów na 3GUN GUARDIAN Dynamic XIII
LOCATION:Cała strzelnica
ORGANIZER;CN=vokiel:MAILTO:vokiel@gmail.com
DTSTART;TZID=Europe/Warsaw;VALUE=DATE:20250913
DTEND;TZID=Europe/Warsaw;VALUE=DATE:20250914
X-ALT-DESC;FMTTYPE=TEXT/HTML:Ustawianie torów na 3GUN GUARDIAN Dynamic XII
 I
CATEGORIES:Rezerwacja
URL;VALUE=URI:https://guardian.mil.pl/strzelnica/moj-kalendarz/?mc_id=2377&amp;
 #038;vcal=2377
METHOD:PUBLISH
END:VEVENT
END:VCALENDAR